1.000000
0.000000
0.000000
-1.000000
573360.500000
4719739.500000
