1.000000
0.000000
0.000000
-1.000000
600620.500000
4724739.500000
