1.000000
0.000000
0.000000
-1.000000
593860.500000
4720009.500000
