1.000000
0.000000
0.000000
-1.000000
627940.500000
4725219.500000
