1.000000
0.000000
0.000000
-1.000000
628020.500000
4720589.500000
