1.000000
0.000000
0.000000
-1.000000
614590.500000
4706459.500000
