1.000000
0.000000
0.000000
-1.000000
621590.500000
4697329.500000
