1.000000
0.000000
0.000000
-1.000000
635310.500000
4697589.500000
