1.000000
0.000000
0.000000
-1.000000
601230.500000
4683099.500000
