1.000000
0.000000
0.000000
-1.000000
601360.500000
4673849.500000
