1.000000
0.000000
0.000000
-1.000000
628620.500000
4688199.500000
