1.000000
0.000000
0.000000
-1.000000
628710.500000
4683579.500000
