1.000000
0.000000
0.000000
-1.000000
622000.500000
4674189.500000
