1.000000
0.000000
0.000000
-1.000000
628880.500000
4674319.500000
