1.000000
0.000000
0.000000
-1.000000
622400.500000
4651059.500000
