1.000000
0.000000
0.000000
-1.000000
613130.500000
4794369.500000
