1.000000
0.000000
0.000000
-1.000000
613280.500000
4785119.500000
