1.000000
0.000000
0.000000
-1.000000
619970.500000
4789869.500000
