1.000000
0.000000
0.000000
-1.000000
586440.500000
4766179.500000
