1.000000
0.000000
0.000000
-1.000000
593160.500000
4770909.500000
