1.000000
0.000000
0.000000
-1.000000
626990.500000
4776119.500000
