2.500000
0.000000
0.000000
-2.500000
579591.250000
4761618.750000
