2.500000
0.000000
0.000000
-2.500000
606778.750000
4762016.250000
