2.500000
0.000000
0.000000
-2.500000
633968.750000
4762521.250000
