2.500000
0.000000
0.000000
-2.500000
566193.750000
4742951.250000
