2.500000
0.000000
0.000000
-2.500000
593453.750000
4743296.250000
