2.500000
0.000000
0.000000
-2.500000
593588.750000
4734041.250000
