2.500000
0.000000
0.000000
-2.500000
620716.250000
4743746.250000
