2.500000
0.000000
0.000000
-2.500000
648188.750000
4735053.750000
