2.500000
0.000000
0.000000
-2.500000
648393.750000
4725801.250000
