2.500000
0.000000
0.000000
-2.500000
621571.250000
4697481.250000
