2.500000
0.000000
0.000000
-2.500000
594393.750000
4678526.250000
