2.500000
0.000000
0.000000
-2.500000
608303.750000
4669483.750000
