2.500000
0.000000
0.000000
-2.500000
579238.750000
4789381.250000
