2.500000
0.000000
0.000000
-2.500000
565898.750000
4770713.750000
