2.500000
0.000000
0.000000
-2.500000
579473.750000
4770871.250000
