2.500000
0.000000
0.000000
-2.500000
647353.750000
4772066.250000
