0.5
0
0
-0.5
562826.611634195
4756549.99754057
