0.5
0
0
-0.5
589988.406059448
4759172.83197242
