0.5
0
0
-0.5
576449.345625785
4754377.74839135
