0.5
0
0
-0.5
579849.590170766
4754417.26980351
