0.5
0
0
-0.5
583249.863385926
4754458.46332429
