0.5
0
0
-0.5
590050.417465431
4754545.92740251
