0.5
0
0
-0.5
579877.1450357
4752103.83882623
