0.5
0
0
-0.5
579932.219723682
4747476.9526872
