0.5
0
0
-0.5
600147.864047124
4761630.3189205
