0.5
0
0
-0.5
606978.260764522
4759421.30695173
