0.5
0
0
-0.5
617172.176991756
4759590.57894053
