0.5
0
0
-0.5
603651.407954467
4754741.3263719
