0.5
0
0
-0.5
610451.907207917
4754849.14465343
